BEGIN:VCALENDAR
VERSION:2.0
PRODID:-//Willkommen beim TV Ibach! - ECPv6.15.20//NONSGML v1.0//EN
CALSCALE:GREGORIAN
METHOD:PUBLISH
X-WR-CALNAME:Willkommen beim TV Ibach!
X-ORIGINAL-URL:https://tvibach.ch
X-WR-CALDESC:Veranstaltungen für Willkommen beim TV Ibach!
REFRESH-INTERVAL;VALUE=DURATION:PT1H
X-Robots-Tag:noindex
X-PUBLISHED-TTL:PT1H
BEGIN:VTIMEZONE
TZID:Europe/Zurich
BEGIN:DAYLIGHT
TZOFFSETFROM:+0100
TZOFFSETTO:+0200
TZNAME:CEST
DTSTART:20250330T010000
END:DAYLIGHT
BEGIN:STANDARD
TZOFFSETFROM:+0200
TZOFFSETTO:+0100
TZNAME:CET
DTSTART:20251026T010000
END:STANDARD
BEGIN:DAYLIGHT
TZOFFSETFROM:+0100
TZOFFSETTO:+0200
TZNAME:CEST
DTSTART:20260329T010000
END:DAYLIGHT
BEGIN:STANDARD
TZOFFSETFROM:+0200
TZOFFSETTO:+0100
TZNAME:CET
DTSTART:20261025T010000
END:STANDARD
BEGIN:DAYLIGHT
TZOFFSETFROM:+0100
TZOFFSETTO:+0200
TZNAME:CEST
DTSTART:20270328T010000
END:DAYLIGHT
BEGIN:STANDARD
TZOFFSETFROM:+0200
TZOFFSETTO:+0100
TZNAME:CET
DTSTART:20271031T010000
END:STANDARD
END:VTIMEZONE
BEGIN:VEVENT
DTSTART;VALUE=DATE:20260425
DTEND;VALUE=DATE:20260426
DTSTAMP:20260424T113021
CREATED:20260209T192910Z
LAST-MODIFIED:20260209T192910Z
UID:7921-1777075200-1777161599@tvibach.ch
SUMMARY:Eröffnungsmeeting
DESCRIPTION:Aktive – Jg. 2016
URL:https://tvibach.ch/termin/eroeffnungsmeeting/
LOCATION:Cham\, Röhrliberg\, Schweiz
END:VEVENT
BEGIN:VEVENT
DTSTART;VALUE=DATE:20260427
DTEND;VALUE=DATE:20260530
DTSTAMP:20260424T113021
CREATED:20260209T194159Z
LAST-MODIFIED:20260209T194227Z
UID:7931-1777248000-1780099199@tvibach.ch
SUMMARY:Trainingstage
DESCRIPTION:ab 9.00Uhr bis 16.00Uhr
URL:https://tvibach.ch/termin/trainingstage/
LOCATION:Sportanlage Wintersried\, Ibach\, 6438\, Schweiz
ORGANIZER;CN="TV Ibach":MAILTO:info@la.tvibach.ch
END:VEVENT
END:VCALENDAR